BEGIN:VCALENDAR
VERSION:2.0
PRODID:-//Fintastic Diving - ECPv6.15.13//NONSGML v1.0//EN
CALSCALE:GREGORIAN
METHOD:PUBLISH
X-WR-CALNAME:Fintastic Diving
X-ORIGINAL-URL:https://fintasticdiving.net
X-WR-CALDESC:Events for Fintastic Diving
REFRESH-INTERVAL;VALUE=DURATION:PT1H
X-Robots-Tag:noindex
X-PUBLISHED-TTL:PT1H
BEGIN:VTIMEZONE
TZID:America/New_York
BEGIN:DAYLIGHT
TZOFFSETFROM:-0500
TZOFFSETTO:-0400
TZNAME:EDT
DTSTART:20250309T070000
END:DAYLIGHT
BEGIN:STANDARD
TZOFFSETFROM:-0400
TZOFFSETTO:-0500
TZNAME:EST
DTSTART:20251102T060000
END:STANDARD
BEGIN:DAYLIGHT
TZOFFSETFROM:-0500
TZOFFSETTO:-0400
TZNAME:EDT
DTSTART:20260308T070000
END:DAYLIGHT
BEGIN:STANDARD
TZOFFSETFROM:-0400
TZOFFSETTO:-0500
TZNAME:EST
DTSTART:20261101T060000
END:STANDARD
BEGIN:DAYLIGHT
TZOFFSETFROM:-0500
TZOFFSETTO:-0400
TZNAME:EDT
DTSTART:20270314T070000
END:DAYLIGHT
BEGIN:STANDARD
TZOFFSETFROM:-0400
TZOFFSETTO:-0500
TZNAME:EST
DTSTART:20271107T060000
END:STANDARD
END:VTIMEZONE
BEGIN:VEVENT
DTSTART;TZID=America/New_York:20260108T183000
DTEND;TZID=America/New_York:20260108T210000
DTSTAMP:20260421T052218
CREATED:20251208T154309Z
LAST-MODIFIED:20251211T170740Z
UID:10000149-1767897000-1767906000@fintasticdiving.net
SUMMARY:Scuba Classroom Training
DESCRIPTION:
URL:https://fintasticdiving.net/event/scuba-classroom-2/
CATEGORIES:Dive Training
END:VEVENT
BEGIN:VEVENT
DTSTART;TZID=America/New_York:20260110T073000
DTEND;TZID=America/New_York:20260110T123000
DTSTAMP:20260421T052218
CREATED:20251208T155048Z
LAST-MODIFIED:20251208T155048Z
UID:10000152-1768030200-1768048200@fintasticdiving.net
SUMMARY:Scuba Pool Training
DESCRIPTION:
URL:https://fintasticdiving.net/event/scuba-pool-training/
CATEGORIES:Dive Training
END:VEVENT
BEGIN:VEVENT
DTSTART;TZID=America/New_York:20260115T183000
DTEND;TZID=America/New_York:20260115T210000
DTSTAMP:20260421T052218
CREATED:20251208T154042Z
LAST-MODIFIED:20251211T170712Z
UID:10000148-1768501800-1768510800@fintasticdiving.net
SUMMARY:Scuba Classroom Training
DESCRIPTION:
URL:https://fintasticdiving.net/event/scuba-classroom/
CATEGORIES:Dive Training
END:VEVENT
BEGIN:VEVENT
DTSTART;TZID=America/New_York:20260117T073000
DTEND;TZID=America/New_York:20260117T123000
DTSTAMP:20260421T052218
CREATED:20251208T155129Z
LAST-MODIFIED:20251208T155129Z
UID:10000153-1768635000-1768653000@fintasticdiving.net
SUMMARY:Scuba Pool Training
DESCRIPTION:
URL:https://fintasticdiving.net/event/scuba-pool-training-2/
CATEGORIES:Dive Training
END:VEVENT
BEGIN:VEVENT
DTSTART;TZID=America/New_York:20260122T183000
DTEND;TZID=America/New_York:20260122T210000
DTSTAMP:20260421T052218
CREATED:20251208T154433Z
LAST-MODIFIED:20251211T170642Z
UID:10000150-1769106600-1769115600@fintasticdiving.net
SUMMARY:Scuba Classroom Training
DESCRIPTION:
URL:https://fintasticdiving.net/event/scuba-classroom-3/
CATEGORIES:Dive Training
END:VEVENT
BEGIN:VEVENT
DTSTART;TZID=America/New_York:20260124T073000
DTEND;TZID=America/New_York:20260124T123000
DTSTAMP:20260421T052218
CREATED:20251208T155202Z
LAST-MODIFIED:20251208T155202Z
UID:10000154-1769239800-1769257800@fintasticdiving.net
SUMMARY:Scuba Pool Training
DESCRIPTION:
URL:https://fintasticdiving.net/event/scuba-pool-training-3/
CATEGORIES:Dive Training
END:VEVENT
BEGIN:VEVENT
DTSTART;TZID=America/New_York:20260129T183000
DTEND;TZID=America/New_York:20260129T210000
DTSTAMP:20260421T052218
CREATED:20251208T154703Z
LAST-MODIFIED:20251211T170617Z
UID:10000151-1769711400-1769720400@fintasticdiving.net
SUMMARY:Scuba Classroom Training
DESCRIPTION:
URL:https://fintasticdiving.net/event/scuba-classroom-4/
CATEGORIES:Dive Training
END:VEVENT
BEGIN:VEVENT
DTSTART;TZID=America/New_York:20260131T073000
DTEND;TZID=America/New_York:20260131T123000
DTSTAMP:20260421T052218
CREATED:20251208T155242Z
LAST-MODIFIED:20251208T155332Z
UID:10000155-1769844600-1769862600@fintasticdiving.net
SUMMARY:Scuba Pool Training
DESCRIPTION:
URL:https://fintasticdiving.net/event/scuba-pool-training-4/
CATEGORIES:Dive Training
END:VEVENT
END:VCALENDAR